BEGIN:VCALENDAR
VERSION:2.0
PRODID:-//Lakes Region Visiting Nurse Association - ECPv6.15.18//NONSGML v1.0//EN
CALSCALE:GREGORIAN
METHOD:PUBLISH
X-WR-CALNAME:Lakes Region Visiting Nurse Association
X-ORIGINAL-URL:https://lrvna.org
X-WR-CALDESC:Events for Lakes Region Visiting Nurse Association
REFRESH-INTERVAL;VALUE=DURATION:PT1H
X-Robots-Tag:noindex
X-PUBLISHED-TTL:PT1H
BEGIN:VTIMEZONE
TZID:America/New_York
BEGIN:DAYLIGHT
TZOFFSETFROM:-0500
TZOFFSETTO:-0400
TZNAME:EDT
DTSTART:20280312T070000
END:DAYLIGHT
BEGIN:STANDARD
TZOFFSETFROM:-0400
TZOFFSETTO:-0500
TZNAME:EST
DTSTART:20281105T060000
END:STANDARD
BEGIN:DAYLIGHT
TZOFFSETFROM:-0500
TZOFFSETTO:-0400
TZNAME:EDT
DTSTART:20290311T070000
END:DAYLIGHT
BEGIN:STANDARD
TZOFFSETFROM:-0400
TZOFFSETTO:-0500
TZNAME:EST
DTSTART:20291104T060000
END:STANDARD
BEGIN:DAYLIGHT
TZOFFSETFROM:-0500
TZOFFSETTO:-0400
TZNAME:EDT
DTSTART:20300310T070000
END:DAYLIGHT
BEGIN:STANDARD
TZOFFSETFROM:-0400
TZOFFSETTO:-0500
TZNAME:EST
DTSTART:20301103T060000
END:STANDARD
BEGIN:DAYLIGHT
TZOFFSETFROM:-0500
TZOFFSETTO:-0400
TZNAME:EDT
DTSTART:20310309T070000
END:DAYLIGHT
BEGIN:STANDARD
TZOFFSETFROM:-0400
TZOFFSETTO:-0500
TZNAME:EST
DTSTART:20311102T060000
END:STANDARD
END:VTIMEZONE
BEGIN:VEVENT
DTSTART;TZID=America/New_York:20290509T113000
DTEND;TZID=America/New_York:20290509T123000
DTSTAMP:20260422T073316
CREATED:20250227T185733Z
LAST-MODIFIED:20250227T185733Z
UID:10000778-1873020600-1873024200@lrvna.org
SUMMARY:Blood Pressure Clinic - Moultonborough
DESCRIPTION:
URL:https://lrvna.org/event/blood-pressure-clinic-moultonborough/2029-05-09/
LOCATION:Moultonborough\, 139 Old Route 109\, Moultonborough\, NH\, 03254\, United States
END:VEVENT
BEGIN:VEVENT
DTSTART;TZID=America/New_York:20290613T113000
DTEND;TZID=America/New_York:20290613T123000
DTSTAMP:20260422T073316
CREATED:20250227T185733Z
LAST-MODIFIED:20250227T185733Z
UID:10000779-1876044600-1876048200@lrvna.org
SUMMARY:Blood Pressure Clinic - Moultonborough
DESCRIPTION:
URL:https://lrvna.org/event/blood-pressure-clinic-moultonborough/2029-06-13/
LOCATION:Moultonborough\, 139 Old Route 109\, Moultonborough\, NH\, 03254\, United States
END:VEVENT
BEGIN:VEVENT
DTSTART;TZID=America/New_York:20290711T113000
DTEND;TZID=America/New_York:20290711T123000
DTSTAMP:20260422T073316
CREATED:20250227T185733Z
LAST-MODIFIED:20250227T185733Z
UID:10000780-1878463800-1878467400@lrvna.org
SUMMARY:Blood Pressure Clinic - Moultonborough
DESCRIPTION:
URL:https://lrvna.org/event/blood-pressure-clinic-moultonborough/2029-07-11/
LOCATION:Moultonborough\, 139 Old Route 109\, Moultonborough\, NH\, 03254\, United States
END:VEVENT
BEGIN:VEVENT
DTSTART;TZID=America/New_York:20290808T113000
DTEND;TZID=America/New_York:20290808T123000
DTSTAMP:20260422T073316
CREATED:20250227T185733Z
LAST-MODIFIED:20250227T185733Z
UID:10000781-1880883000-1880886600@lrvna.org
SUMMARY:Blood Pressure Clinic - Moultonborough
DESCRIPTION:
URL:https://lrvna.org/event/blood-pressure-clinic-moultonborough/2029-08-08/
LOCATION:Moultonborough\, 139 Old Route 109\, Moultonborough\, NH\, 03254\, United States
END:VEVENT
BEGIN:VEVENT
DTSTART;TZID=America/New_York:20290912T113000
DTEND;TZID=America/New_York:20290912T123000
DTSTAMP:20260422T073316
CREATED:20250227T185733Z
LAST-MODIFIED:20250227T185733Z
UID:10000782-1883907000-1883910600@lrvna.org
SUMMARY:Blood Pressure Clinic - Moultonborough
DESCRIPTION:
URL:https://lrvna.org/event/blood-pressure-clinic-moultonborough/2029-09-12/
LOCATION:Moultonborough\, 139 Old Route 109\, Moultonborough\, NH\, 03254\, United States
END:VEVENT
BEGIN:VEVENT
DTSTART;TZID=America/New_York:20291010T113000
DTEND;TZID=America/New_York:20291010T123000
DTSTAMP:20260422T073316
CREATED:20250227T185733Z
LAST-MODIFIED:20250227T185733Z
UID:10000783-1886326200-1886329800@lrvna.org
SUMMARY:Blood Pressure Clinic - Moultonborough
DESCRIPTION:
URL:https://lrvna.org/event/blood-pressure-clinic-moultonborough/2029-10-10/
LOCATION:Moultonborough\, 139 Old Route 109\, Moultonborough\, NH\, 03254\, United States
END:VEVENT
BEGIN:VEVENT
DTSTART;TZID=America/New_York:20291114T113000
DTEND;TZID=America/New_York:20291114T123000
DTSTAMP:20260422T073316
CREATED:20250227T185733Z
LAST-MODIFIED:20250227T185733Z
UID:10000784-1889350200-1889353800@lrvna.org
SUMMARY:Blood Pressure Clinic - Moultonborough
DESCRIPTION:
URL:https://lrvna.org/event/blood-pressure-clinic-moultonborough/2029-11-14/
LOCATION:Moultonborough\, 139 Old Route 109\, Moultonborough\, NH\, 03254\, United States
END:VEVENT
BEGIN:VEVENT
DTSTART;TZID=America/New_York:20291212T113000
DTEND;TZID=America/New_York:20291212T123000
DTSTAMP:20260422T073316
CREATED:20250227T185733Z
LAST-MODIFIED:20250227T185733Z
UID:10000785-1891769400-1891773000@lrvna.org
SUMMARY:Blood Pressure Clinic - Moultonborough
DESCRIPTION:
URL:https://lrvna.org/event/blood-pressure-clinic-moultonborough/2029-12-12/
LOCATION:Moultonborough\, 139 Old Route 109\, Moultonborough\, NH\, 03254\, United States
END:VEVENT
BEGIN:VEVENT
DTSTART;TZID=America/New_York:20300109T113000
DTEND;TZID=America/New_York:20300109T123000
DTSTAMP:20260422T073316
CREATED:20250227T185733Z
LAST-MODIFIED:20250227T185733Z
UID:10000786-1894188600-1894192200@lrvna.org
SUMMARY:Blood Pressure Clinic - Moultonborough
DESCRIPTION:
URL:https://lrvna.org/event/blood-pressure-clinic-moultonborough/2030-01-09/
LOCATION:Moultonborough\, 139 Old Route 109\, Moultonborough\, NH\, 03254\, United States
END:VEVENT
BEGIN:VEVENT
DTSTART;TZID=America/New_York:20300213T113000
DTEND;TZID=America/New_York:20300213T123000
DTSTAMP:20260422T073316
CREATED:20250227T185733Z
LAST-MODIFIED:20250227T185733Z
UID:10000787-1897212600-1897216200@lrvna.org
SUMMARY:Blood Pressure Clinic - Moultonborough
DESCRIPTION:
URL:https://lrvna.org/event/blood-pressure-clinic-moultonborough/2030-02-13/
LOCATION:Moultonborough\, 139 Old Route 109\, Moultonborough\, NH\, 03254\, United States
END:VEVENT
END:VCALENDAR