BEGIN:VCALENDAR
VERSION:2.0
PRODID:-//Lakes Region Visiting Nurse Association - ECPv6.15.18//NONSGML v1.0//EN
CALSCALE:GREGORIAN
METHOD:PUBLISH
X-WR-CALNAME:Lakes Region Visiting Nurse Association
X-ORIGINAL-URL:https://lrvna.org
X-WR-CALDESC:Events for Lakes Region Visiting Nurse Association
REFRESH-INTERVAL;VALUE=DURATION:PT1H
X-Robots-Tag:noindex
X-PUBLISHED-TTL:PT1H
BEGIN:VTIMEZONE
TZID:America/New_York
BEGIN:DAYLIGHT
TZOFFSETFROM:-0500
TZOFFSETTO:-0400
TZNAME:EDT
DTSTART:20240310T070000
END:DAYLIGHT
BEGIN:STANDARD
TZOFFSETFROM:-0400
TZOFFSETTO:-0500
TZNAME:EST
DTSTART:20241103T060000
END:STANDARD
BEGIN:DAYLIGHT
TZOFFSETFROM:-0500
TZOFFSETTO:-0400
TZNAME:EDT
DTSTART:20250309T070000
END:DAYLIGHT
BEGIN:STANDARD
TZOFFSETFROM:-0400
TZOFFSETTO:-0500
TZNAME:EST
DTSTART:20251102T060000
END:STANDARD
BEGIN:DAYLIGHT
TZOFFSETFROM:-0500
TZOFFSETTO:-0400
TZNAME:EDT
DTSTART:20260308T070000
END:DAYLIGHT
BEGIN:STANDARD
TZOFFSETFROM:-0400
TZOFFSETTO:-0500
TZNAME:EST
DTSTART:20261101T060000
END:STANDARD
END:VTIMEZONE
BEGIN:VEVENT
DTSTART;TZID=America/New_York:20251104T133000
DTEND;TZID=America/New_York:20251104T150000
DTSTAMP:20260424T101109
CREATED:20250813T182542Z
LAST-MODIFIED:20251112T204009Z
UID:10004098-1762263000-1762268400@lrvna.org
SUMMARY:Let’s Talk About Grief – An open conversation
DESCRIPTION:Come join the conversation.\nLet’s talk about Grief –An Open Conversation Grief is a kaleidoscope of emotions\, sparked by any loss that shatters our world. \nGrief and loss are often associated with death\, but they can be caused by any significant loss.\nDo you feel uncomfortable talking about grief? Do you have questions or concerns?\nDo you feel ashamed or silly to say that you’re still grieving deeply for your pet?\nDo you or your family wonder when your grief will end? Grief is a journey\, not a destination. There is no timeline for when it will end.\nDo you understand the difference between grief and mourning? \nAre you afraid to tell friends and family that you’re still grieving?\nAre you afraid to show your grief in public? \nGrief is a taboo topic in our culture\, but it’s important to talk about it.\nLet’s break the silence. Let’s open the door to a conversation about grief.\nIt’s time to break the stigma. \n 
URL:https://lrvna.org/event/lets-talk-about-grief-an-open-conversation-2-2/2025-11-04/
LOCATION:Minot Sleeper Library\, 35 Pleasant St\, Bristol\, NH\, 03222\, United States
CATEGORIES:Groups
END:VEVENT
BEGIN:VEVENT
DTSTART;TZID=America/New_York:20251101T160000
DTEND;TZID=America/New_York:20251101T160000
DTSTAMP:20260424T101109
CREATED:20250630T190755Z
LAST-MODIFIED:20251112T204201Z
UID:10004087-1762012800-1762012800@lrvna.org
SUMMARY:A Safe Place Bereavement Group- Bristol
DESCRIPTION:The Safe Place Bereavement Group is here to support you through the ups and downs of loss. Our group provides a welcoming environment where you can share your experiences\, express your feelings\, and learn coping strategies. While your grief is unique\, finding comfort in connecting with others who face similar challenges can be reassuring. Grieving is a process that requires your attention\, and there’s no single “right” way to do it. Though joining a grief group might feel daunting\, many have discovered it to be an invaluable resource. Remember\, you don’t have to navigate this journey alone. \nThere are six classes in the series.\nRegistration closes after the first session as the classes build on each other. \n 
URL:https://lrvna.org/event/a-safe-place-bereavement-group-3/2025-11-01/
LOCATION:Minot Sleeper Library\, 35 Pleasant St\, Bristol\, NH\, 03222\, United States
END:VEVENT
BEGIN:VEVENT
DTSTART;TZID=America/New_York:20251007T133000
DTEND;TZID=America/New_York:20251007T150000
DTSTAMP:20260424T101109
CREATED:20250813T182542Z
LAST-MODIFIED:20251112T204009Z
UID:10004097-1759843800-1759849200@lrvna.org
SUMMARY:Let’s Talk About Grief – An open conversation
DESCRIPTION:Come join the conversation.\nLet’s talk about Grief –An Open Conversation Grief is a kaleidoscope of emotions\, sparked by any loss that shatters our world. \nGrief and loss are often associated with death\, but they can be caused by any significant loss.\nDo you feel uncomfortable talking about grief? Do you have questions or concerns?\nDo you feel ashamed or silly to say that you’re still grieving deeply for your pet?\nDo you or your family wonder when your grief will end? Grief is a journey\, not a destination. There is no timeline for when it will end.\nDo you understand the difference between grief and mourning? \nAre you afraid to tell friends and family that you’re still grieving?\nAre you afraid to show your grief in public? \nGrief is a taboo topic in our culture\, but it’s important to talk about it.\nLet’s break the silence. Let’s open the door to a conversation about grief.\nIt’s time to break the stigma. \n 
URL:https://lrvna.org/event/lets-talk-about-grief-an-open-conversation-2-2/2025-10-07/
LOCATION:Minot Sleeper Library\, 35 Pleasant St\, Bristol\, NH\, 03222\, United States
CATEGORIES:Groups
END:VEVENT
BEGIN:VEVENT
DTSTART;TZID=America/New_York:20250902T133000
DTEND;TZID=America/New_York:20250902T150000
DTSTAMP:20260424T101109
CREATED:20250813T182542Z
LAST-MODIFIED:20251112T204009Z
UID:10003777-1756819800-1756825200@lrvna.org
SUMMARY:Let’s Talk About Grief – An open conversation
DESCRIPTION:Come join the conversation.\nLet’s talk about Grief –An Open Conversation Grief is a kaleidoscope of emotions\, sparked by any loss that shatters our world. \nGrief and loss are often associated with death\, but they can be caused by any significant loss.\nDo you feel uncomfortable talking about grief? Do you have questions or concerns?\nDo you feel ashamed or silly to say that you’re still grieving deeply for your pet?\nDo you or your family wonder when your grief will end? Grief is a journey\, not a destination. There is no timeline for when it will end.\nDo you understand the difference between grief and mourning? \nAre you afraid to tell friends and family that you’re still grieving?\nAre you afraid to show your grief in public? \nGrief is a taboo topic in our culture\, but it’s important to talk about it.\nLet’s break the silence. Let’s open the door to a conversation about grief.\nIt’s time to break the stigma. \n 
URL:https://lrvna.org/event/lets-talk-about-grief-an-open-conversation-2-2/2025-09-02/
LOCATION:Minot Sleeper Library\, 35 Pleasant St\, Bristol\, NH\, 03222\, United States
CATEGORIES:Groups
END:VEVENT
BEGIN:VEVENT
DTSTART;TZID=America/New_York:20250805T133000
DTEND;TZID=America/New_York:20250805T150000
DTSTAMP:20260424T101109
CREATED:20250630T181302Z
LAST-MODIFIED:20250630T182132Z
UID:10003776-1754400600-1754406000@lrvna.org
SUMMARY:Let’s Talk About Grief – An open conversation
DESCRIPTION:Come join the conversation.\nLet’s talk about Grief –An Open Conversation Grief is a kaleidoscope of emotions\, sparked by any loss that shatters our world. \nGrief and loss are often associated with death\, but they can be caused by any significant loss.\nDo you feel uncomfortable talking about grief? Do you have questions or concerns?\nDo you feel ashamed or silly to say that you’re still grieving deeply for your pet?\nDo you or your family wonder when your grief will end? Grief is a journey\, not a destination. There is no timeline for when it will end.\nDo you understand the difference between grief and mourning? \nAre you afraid to tell friends and family that you’re still grieving?\nAre you afraid to show your grief in public? \nGrief is a taboo topic in our culture\, but it’s important to talk about it.\nLet’s break the silence. Let’s open the door to a conversation about grief.\nIt’s time to break the stigma. \n 
URL:https://lrvna.org/event/lets-talk-about-grief-an-open-conversation-2/2025-08-05/
LOCATION:Minot Sleeper Library\, 35 Pleasant St\, Bristol\, NH\, 03222\, United States
END:VEVENT
BEGIN:VEVENT
DTSTART;TZID=America/New_York:20250701T133000
DTEND;TZID=America/New_York:20250701T150000
DTSTAMP:20260424T101109
CREATED:20250630T181302Z
LAST-MODIFIED:20250630T182132Z
UID:10003775-1751376600-1751382000@lrvna.org
SUMMARY:Let’s Talk About Grief – An open conversation
DESCRIPTION:Come join the conversation.\nLet’s talk about Grief –An Open Conversation Grief is a kaleidoscope of emotions\, sparked by any loss that shatters our world. \nGrief and loss are often associated with death\, but they can be caused by any significant loss.\nDo you feel uncomfortable talking about grief? Do you have questions or concerns?\nDo you feel ashamed or silly to say that you’re still grieving deeply for your pet?\nDo you or your family wonder when your grief will end? Grief is a journey\, not a destination. There is no timeline for when it will end.\nDo you understand the difference between grief and mourning? \nAre you afraid to tell friends and family that you’re still grieving?\nAre you afraid to show your grief in public? \nGrief is a taboo topic in our culture\, but it’s important to talk about it.\nLet’s break the silence. Let’s open the door to a conversation about grief.\nIt’s time to break the stigma. \n 
URL:https://lrvna.org/event/lets-talk-about-grief-an-open-conversation-2/2025-07-01/
LOCATION:Minot Sleeper Library\, 35 Pleasant St\, Bristol\, NH\, 03222\, United States
END:VEVENT
END:VCALENDAR