BEGIN:VCALENDAR
VERSION:2.0
PRODID:-//Lakes Region Visiting Nurse Association - ECPv6.15.18//NONSGML v1.0//EN
CALSCALE:GREGORIAN
METHOD:PUBLISH
X-WR-CALNAME:Lakes Region Visiting Nurse Association
X-ORIGINAL-URL:https://lrvna.org
X-WR-CALDESC:Events for Lakes Region Visiting Nurse Association
REFRESH-INTERVAL;VALUE=DURATION:PT1H
X-Robots-Tag:noindex
X-PUBLISHED-TTL:PT1H
BEGIN:VTIMEZONE
TZID:America/New_York
BEGIN:DAYLIGHT
TZOFFSETFROM:-0500
TZOFFSETTO:-0400
TZNAME:EDT
DTSTART:20250309T070000
END:DAYLIGHT
BEGIN:STANDARD
TZOFFSETFROM:-0400
TZOFFSETTO:-0500
TZNAME:EST
DTSTART:20251102T060000
END:STANDARD
BEGIN:DAYLIGHT
TZOFFSETFROM:-0500
TZOFFSETTO:-0400
TZNAME:EDT
DTSTART:20260308T070000
END:DAYLIGHT
BEGIN:STANDARD
TZOFFSETFROM:-0400
TZOFFSETTO:-0500
TZNAME:EST
DTSTART:20261101T060000
END:STANDARD
BEGIN:DAYLIGHT
TZOFFSETFROM:-0500
TZOFFSETTO:-0400
TZNAME:EDT
DTSTART:20270314T070000
END:DAYLIGHT
BEGIN:STANDARD
TZOFFSETFROM:-0400
TZOFFSETTO:-0500
TZNAME:EST
DTSTART:20271107T060000
END:STANDARD
BEGIN:DAYLIGHT
TZOFFSETFROM:-0500
TZOFFSETTO:-0400
TZNAME:EDT
DTSTART:20280312T070000
END:DAYLIGHT
BEGIN:STANDARD
TZOFFSETFROM:-0400
TZOFFSETTO:-0500
TZNAME:EST
DTSTART:20281105T060000
END:STANDARD
BEGIN:DAYLIGHT
TZOFFSETFROM:-0500
TZOFFSETTO:-0400
TZNAME:EDT
DTSTART:20290311T070000
END:DAYLIGHT
BEGIN:STANDARD
TZOFFSETFROM:-0400
TZOFFSETTO:-0500
TZNAME:EST
DTSTART:20291104T060000
END:STANDARD
END:VTIMEZONE
BEGIN:VEVENT
DTSTART;TZID=America/New_York:20260520T110000
DTEND;TZID=America/New_York:20260520T120000
DTSTAMP:20260420T080208
CREATED:20260115T202800Z
LAST-MODIFIED:20260206T174145Z
UID:10004510-1779274800-1779278400@lrvna.org
SUMMARY:Blood Pressure Clinic - Holderness
DESCRIPTION:
URL:https://lrvna.org/event/blood-pressure-clinic-holderness/2026-05-20/
LOCATION:Holderness Free Library\, 866 US-3\, Holderness\, NH\, 03245\, United States
CATEGORIES:Clinics
END:VEVENT
BEGIN:VEVENT
DTSTART;TZID=America/New_York:20260617T110000
DTEND;TZID=America/New_York:20260617T120000
DTSTAMP:20260420T080208
CREATED:20260115T202800Z
LAST-MODIFIED:20260206T174145Z
UID:10004511-1781694000-1781697600@lrvna.org
SUMMARY:Blood Pressure Clinic - Holderness
DESCRIPTION:
URL:https://lrvna.org/event/blood-pressure-clinic-holderness/2026-06-17/
LOCATION:Holderness Free Library\, 866 US-3\, Holderness\, NH\, 03245\, United States
CATEGORIES:Clinics
END:VEVENT
BEGIN:VEVENT
DTSTART;TZID=America/New_York:20260715T110000
DTEND;TZID=America/New_York:20260715T120000
DTSTAMP:20260420T080208
CREATED:20260115T202800Z
LAST-MODIFIED:20260206T174145Z
UID:10004512-1784113200-1784116800@lrvna.org
SUMMARY:Blood Pressure Clinic - Holderness
DESCRIPTION:
URL:https://lrvna.org/event/blood-pressure-clinic-holderness/2026-07-15/
LOCATION:Holderness Free Library\, 866 US-3\, Holderness\, NH\, 03245\, United States
CATEGORIES:Clinics
END:VEVENT
BEGIN:VEVENT
DTSTART;TZID=America/New_York:20260819T110000
DTEND;TZID=America/New_York:20260819T120000
DTSTAMP:20260420T080208
CREATED:20260115T202800Z
LAST-MODIFIED:20260206T174145Z
UID:10004513-1787137200-1787140800@lrvna.org
SUMMARY:Blood Pressure Clinic - Holderness
DESCRIPTION:
URL:https://lrvna.org/event/blood-pressure-clinic-holderness/2026-08-19/
LOCATION:Holderness Free Library\, 866 US-3\, Holderness\, NH\, 03245\, United States
CATEGORIES:Clinics
END:VEVENT
BEGIN:VEVENT
DTSTART;TZID=America/New_York:20260916T110000
DTEND;TZID=America/New_York:20260916T120000
DTSTAMP:20260420T080208
CREATED:20260115T202800Z
LAST-MODIFIED:20260206T174145Z
UID:10004514-1789556400-1789560000@lrvna.org
SUMMARY:Blood Pressure Clinic - Holderness
DESCRIPTION:
URL:https://lrvna.org/event/blood-pressure-clinic-holderness/2026-09-16/
LOCATION:Holderness Free Library\, 866 US-3\, Holderness\, NH\, 03245\, United States
CATEGORIES:Clinics
END:VEVENT
BEGIN:VEVENT
DTSTART;TZID=America/New_York:20261021T110000
DTEND;TZID=America/New_York:20261021T120000
DTSTAMP:20260420T080208
CREATED:20260115T202800Z
LAST-MODIFIED:20260206T174145Z
UID:10004515-1792580400-1792584000@lrvna.org
SUMMARY:Blood Pressure Clinic - Holderness
DESCRIPTION:
URL:https://lrvna.org/event/blood-pressure-clinic-holderness/2026-10-21/
LOCATION:Holderness Free Library\, 866 US-3\, Holderness\, NH\, 03245\, United States
CATEGORIES:Clinics
END:VEVENT
BEGIN:VEVENT
DTSTART;TZID=America/New_York:20261118T110000
DTEND;TZID=America/New_York:20261118T120000
DTSTAMP:20260420T080208
CREATED:20260115T202800Z
LAST-MODIFIED:20260206T174145Z
UID:10004516-1794999600-1795003200@lrvna.org
SUMMARY:Blood Pressure Clinic - Holderness
DESCRIPTION:
URL:https://lrvna.org/event/blood-pressure-clinic-holderness/2026-11-18/
LOCATION:Holderness Free Library\, 866 US-3\, Holderness\, NH\, 03245\, United States
CATEGORIES:Clinics
END:VEVENT
BEGIN:VEVENT
DTSTART;TZID=America/New_York:20261216T110000
DTEND;TZID=America/New_York:20261216T120000
DTSTAMP:20260420T080208
CREATED:20260115T202800Z
LAST-MODIFIED:20260206T174145Z
UID:10004517-1797418800-1797422400@lrvna.org
SUMMARY:Blood Pressure Clinic - Holderness
DESCRIPTION:
URL:https://lrvna.org/event/blood-pressure-clinic-holderness/2026-12-16/
LOCATION:Holderness Free Library\, 866 US-3\, Holderness\, NH\, 03245\, United States
CATEGORIES:Clinics
END:VEVENT
BEGIN:VEVENT
DTSTART;TZID=America/New_York:20270120T110000
DTEND;TZID=America/New_York:20270120T120000
DTSTAMP:20260420T080208
CREATED:20260115T202800Z
LAST-MODIFIED:20260206T174145Z
UID:10004518-1800442800-1800446400@lrvna.org
SUMMARY:Blood Pressure Clinic - Holderness
DESCRIPTION:
URL:https://lrvna.org/event/blood-pressure-clinic-holderness/2027-01-20/
LOCATION:Holderness Free Library\, 866 US-3\, Holderness\, NH\, 03245\, United States
CATEGORIES:Clinics
END:VEVENT
BEGIN:VEVENT
DTSTART;TZID=America/New_York:20270217T110000
DTEND;TZID=America/New_York:20270217T120000
DTSTAMP:20260420T080208
CREATED:20260115T202800Z
LAST-MODIFIED:20260206T174145Z
UID:10004519-1802862000-1802865600@lrvna.org
SUMMARY:Blood Pressure Clinic - Holderness
DESCRIPTION:
URL:https://lrvna.org/event/blood-pressure-clinic-holderness/2027-02-17/
LOCATION:Holderness Free Library\, 866 US-3\, Holderness\, NH\, 03245\, United States
CATEGORIES:Clinics
END:VEVENT
BEGIN:VEVENT
DTSTART;TZID=America/New_York:20270317T110000
DTEND;TZID=America/New_York:20270317T120000
DTSTAMP:20260420T080208
CREATED:20260115T202800Z
LAST-MODIFIED:20260206T174145Z
UID:10004520-1805281200-1805284800@lrvna.org
SUMMARY:Blood Pressure Clinic - Holderness
DESCRIPTION:
URL:https://lrvna.org/event/blood-pressure-clinic-holderness/2027-03-17/
LOCATION:Holderness Free Library\, 866 US-3\, Holderness\, NH\, 03245\, United States
CATEGORIES:Clinics
END:VEVENT
BEGIN:VEVENT
DTSTART;TZID=America/New_York:20270421T110000
DTEND;TZID=America/New_York:20270421T120000
DTSTAMP:20260420T080208
CREATED:20260115T202800Z
LAST-MODIFIED:20260206T174145Z
UID:10004521-1808305200-1808308800@lrvna.org
SUMMARY:Blood Pressure Clinic - Holderness
DESCRIPTION:
URL:https://lrvna.org/event/blood-pressure-clinic-holderness/2027-04-21/
LOCATION:Holderness Free Library\, 866 US-3\, Holderness\, NH\, 03245\, United States
CATEGORIES:Clinics
END:VEVENT
BEGIN:VEVENT
DTSTART;TZID=America/New_York:20270519T110000
DTEND;TZID=America/New_York:20270519T120000
DTSTAMP:20260420T080208
CREATED:20260115T202800Z
LAST-MODIFIED:20260206T174145Z
UID:10004522-1810724400-1810728000@lrvna.org
SUMMARY:Blood Pressure Clinic - Holderness
DESCRIPTION:
URL:https://lrvna.org/event/blood-pressure-clinic-holderness/2027-05-19/
LOCATION:Holderness Free Library\, 866 US-3\, Holderness\, NH\, 03245\, United States
CATEGORIES:Clinics
END:VEVENT
BEGIN:VEVENT
DTSTART;TZID=America/New_York:20270616T110000
DTEND;TZID=America/New_York:20270616T120000
DTSTAMP:20260420T080208
CREATED:20260115T202800Z
LAST-MODIFIED:20260206T174145Z
UID:10004523-1813143600-1813147200@lrvna.org
SUMMARY:Blood Pressure Clinic - Holderness
DESCRIPTION:
URL:https://lrvna.org/event/blood-pressure-clinic-holderness/2027-06-16/
LOCATION:Holderness Free Library\, 866 US-3\, Holderness\, NH\, 03245\, United States
CATEGORIES:Clinics
END:VEVENT
BEGIN:VEVENT
DTSTART;TZID=America/New_York:20270721T110000
DTEND;TZID=America/New_York:20270721T120000
DTSTAMP:20260420T080208
CREATED:20260115T202800Z
LAST-MODIFIED:20260206T174145Z
UID:10004524-1816167600-1816171200@lrvna.org
SUMMARY:Blood Pressure Clinic - Holderness
DESCRIPTION:
URL:https://lrvna.org/event/blood-pressure-clinic-holderness/2027-07-21/
LOCATION:Holderness Free Library\, 866 US-3\, Holderness\, NH\, 03245\, United States
CATEGORIES:Clinics
END:VEVENT
BEGIN:VEVENT
DTSTART;TZID=America/New_York:20270818T110000
DTEND;TZID=America/New_York:20270818T120000
DTSTAMP:20260420T080208
CREATED:20260115T202800Z
LAST-MODIFIED:20260206T174145Z
UID:10004525-1818586800-1818590400@lrvna.org
SUMMARY:Blood Pressure Clinic - Holderness
DESCRIPTION:
URL:https://lrvna.org/event/blood-pressure-clinic-holderness/2027-08-18/
LOCATION:Holderness Free Library\, 866 US-3\, Holderness\, NH\, 03245\, United States
CATEGORIES:Clinics
END:VEVENT
BEGIN:VEVENT
DTSTART;TZID=America/New_York:20270915T110000
DTEND;TZID=America/New_York:20270915T120000
DTSTAMP:20260420T080208
CREATED:20260115T202800Z
LAST-MODIFIED:20260206T174145Z
UID:10004526-1821006000-1821009600@lrvna.org
SUMMARY:Blood Pressure Clinic - Holderness
DESCRIPTION:
URL:https://lrvna.org/event/blood-pressure-clinic-holderness/2027-09-15/
LOCATION:Holderness Free Library\, 866 US-3\, Holderness\, NH\, 03245\, United States
CATEGORIES:Clinics
END:VEVENT
BEGIN:VEVENT
DTSTART;TZID=America/New_York:20271020T110000
DTEND;TZID=America/New_York:20271020T120000
DTSTAMP:20260420T080208
CREATED:20260115T202800Z
LAST-MODIFIED:20260206T174145Z
UID:10004527-1824030000-1824033600@lrvna.org
SUMMARY:Blood Pressure Clinic - Holderness
DESCRIPTION:
URL:https://lrvna.org/event/blood-pressure-clinic-holderness/2027-10-20/
LOCATION:Holderness Free Library\, 866 US-3\, Holderness\, NH\, 03245\, United States
CATEGORIES:Clinics
END:VEVENT
BEGIN:VEVENT
DTSTART;TZID=America/New_York:20271117T110000
DTEND;TZID=America/New_York:20271117T120000
DTSTAMP:20260420T080208
CREATED:20260115T202800Z
LAST-MODIFIED:20260206T174145Z
UID:10004528-1826449200-1826452800@lrvna.org
SUMMARY:Blood Pressure Clinic - Holderness
DESCRIPTION:
URL:https://lrvna.org/event/blood-pressure-clinic-holderness/2027-11-17/
LOCATION:Holderness Free Library\, 866 US-3\, Holderness\, NH\, 03245\, United States
CATEGORIES:Clinics
END:VEVENT
BEGIN:VEVENT
DTSTART;TZID=America/New_York:20271215T110000
DTEND;TZID=America/New_York:20271215T120000
DTSTAMP:20260420T080208
CREATED:20260115T202800Z
LAST-MODIFIED:20260206T174145Z
UID:10004529-1828868400-1828872000@lrvna.org
SUMMARY:Blood Pressure Clinic - Holderness
DESCRIPTION:
URL:https://lrvna.org/event/blood-pressure-clinic-holderness/2027-12-15/
LOCATION:Holderness Free Library\, 866 US-3\, Holderness\, NH\, 03245\, United States
CATEGORIES:Clinics
END:VEVENT
BEGIN:VEVENT
DTSTART;TZID=America/New_York:20280119T110000
DTEND;TZID=America/New_York:20280119T120000
DTSTAMP:20260420T080208
CREATED:20260115T202800Z
LAST-MODIFIED:20260206T174145Z
UID:10004530-1831892400-1831896000@lrvna.org
SUMMARY:Blood Pressure Clinic - Holderness
DESCRIPTION:
URL:https://lrvna.org/event/blood-pressure-clinic-holderness/2028-01-19/
LOCATION:Holderness Free Library\, 866 US-3\, Holderness\, NH\, 03245\, United States
CATEGORIES:Clinics
END:VEVENT
BEGIN:VEVENT
DTSTART;TZID=America/New_York:20280216T110000
DTEND;TZID=America/New_York:20280216T120000
DTSTAMP:20260420T080208
CREATED:20260115T202800Z
LAST-MODIFIED:20260206T174145Z
UID:10004531-1834311600-1834315200@lrvna.org
SUMMARY:Blood Pressure Clinic - Holderness
DESCRIPTION:
URL:https://lrvna.org/event/blood-pressure-clinic-holderness/2028-02-16/
LOCATION:Holderness Free Library\, 866 US-3\, Holderness\, NH\, 03245\, United States
CATEGORIES:Clinics
END:VEVENT
BEGIN:VEVENT
DTSTART;TZID=America/New_York:20280315T110000
DTEND;TZID=America/New_York:20280315T120000
DTSTAMP:20260420T080208
CREATED:20260115T202800Z
LAST-MODIFIED:20260206T174145Z
UID:10004532-1836730800-1836734400@lrvna.org
SUMMARY:Blood Pressure Clinic - Holderness
DESCRIPTION:
URL:https://lrvna.org/event/blood-pressure-clinic-holderness/2028-03-15/
LOCATION:Holderness Free Library\, 866 US-3\, Holderness\, NH\, 03245\, United States
CATEGORIES:Clinics
END:VEVENT
BEGIN:VEVENT
DTSTART;TZID=America/New_York:20280419T110000
DTEND;TZID=America/New_York:20280419T120000
DTSTAMP:20260420T080208
CREATED:20260115T202800Z
LAST-MODIFIED:20260206T174145Z
UID:10004533-1839754800-1839758400@lrvna.org
SUMMARY:Blood Pressure Clinic - Holderness
DESCRIPTION:
URL:https://lrvna.org/event/blood-pressure-clinic-holderness/2028-04-19/
LOCATION:Holderness Free Library\, 866 US-3\, Holderness\, NH\, 03245\, United States
CATEGORIES:Clinics
END:VEVENT
BEGIN:VEVENT
DTSTART;TZID=America/New_York:20280517T110000
DTEND;TZID=America/New_York:20280517T120000
DTSTAMP:20260420T080208
CREATED:20260115T202800Z
LAST-MODIFIED:20260206T174145Z
UID:10004534-1842174000-1842177600@lrvna.org
SUMMARY:Blood Pressure Clinic - Holderness
DESCRIPTION:
URL:https://lrvna.org/event/blood-pressure-clinic-holderness/2028-05-17/
LOCATION:Holderness Free Library\, 866 US-3\, Holderness\, NH\, 03245\, United States
CATEGORIES:Clinics
END:VEVENT
BEGIN:VEVENT
DTSTART;TZID=America/New_York:20280621T110000
DTEND;TZID=America/New_York:20280621T120000
DTSTAMP:20260420T080208
CREATED:20260115T202800Z
LAST-MODIFIED:20260206T174145Z
UID:10004535-1845198000-1845201600@lrvna.org
SUMMARY:Blood Pressure Clinic - Holderness
DESCRIPTION:
URL:https://lrvna.org/event/blood-pressure-clinic-holderness/2028-06-21/
LOCATION:Holderness Free Library\, 866 US-3\, Holderness\, NH\, 03245\, United States
CATEGORIES:Clinics
END:VEVENT
BEGIN:VEVENT
DTSTART;TZID=America/New_York:20280719T110000
DTEND;TZID=America/New_York:20280719T120000
DTSTAMP:20260420T080209
CREATED:20260115T202800Z
LAST-MODIFIED:20260206T174145Z
UID:10004536-1847617200-1847620800@lrvna.org
SUMMARY:Blood Pressure Clinic - Holderness
DESCRIPTION:
URL:https://lrvna.org/event/blood-pressure-clinic-holderness/2028-07-19/
LOCATION:Holderness Free Library\, 866 US-3\, Holderness\, NH\, 03245\, United States
CATEGORIES:Clinics
END:VEVENT
BEGIN:VEVENT
DTSTART;TZID=America/New_York:20280816T110000
DTEND;TZID=America/New_York:20280816T120000
DTSTAMP:20260420T080209
CREATED:20260115T202800Z
LAST-MODIFIED:20260206T174145Z
UID:10004537-1850036400-1850040000@lrvna.org
SUMMARY:Blood Pressure Clinic - Holderness
DESCRIPTION:
URL:https://lrvna.org/event/blood-pressure-clinic-holderness/2028-08-16/
LOCATION:Holderness Free Library\, 866 US-3\, Holderness\, NH\, 03245\, United States
CATEGORIES:Clinics
END:VEVENT
BEGIN:VEVENT
DTSTART;TZID=America/New_York:20280920T110000
DTEND;TZID=America/New_York:20280920T120000
DTSTAMP:20260420T080209
CREATED:20260115T202800Z
LAST-MODIFIED:20260206T174145Z
UID:10004538-1853060400-1853064000@lrvna.org
SUMMARY:Blood Pressure Clinic - Holderness
DESCRIPTION:
URL:https://lrvna.org/event/blood-pressure-clinic-holderness/2028-09-20/
LOCATION:Holderness Free Library\, 866 US-3\, Holderness\, NH\, 03245\, United States
CATEGORIES:Clinics
END:VEVENT
BEGIN:VEVENT
DTSTART;TZID=America/New_York:20281018T110000
DTEND;TZID=America/New_York:20281018T120000
DTSTAMP:20260420T080209
CREATED:20260115T202800Z
LAST-MODIFIED:20260206T174145Z
UID:10004539-1855479600-1855483200@lrvna.org
SUMMARY:Blood Pressure Clinic - Holderness
DESCRIPTION:
URL:https://lrvna.org/event/blood-pressure-clinic-holderness/2028-10-18/
LOCATION:Holderness Free Library\, 866 US-3\, Holderness\, NH\, 03245\, United States
CATEGORIES:Clinics
END:VEVENT
END:VCALENDAR