BEGIN:VCALENDAR
VERSION:2.0
PRODID:-//Lakes Region Visiting Nurse Association - ECPv6.15.18//NONSGML v1.0//EN
CALSCALE:GREGORIAN
METHOD:PUBLISH
X-WR-CALNAME:Lakes Region Visiting Nurse Association
X-ORIGINAL-URL:https://lrvna.org
X-WR-CALDESC:Events for Lakes Region Visiting Nurse Association
REFRESH-INTERVAL;VALUE=DURATION:PT1H
X-Robots-Tag:noindex
X-PUBLISHED-TTL:PT1H
BEGIN:VTIMEZONE
TZID:America/New_York
BEGIN:DAYLIGHT
TZOFFSETFROM:-0500
TZOFFSETTO:-0400
TZNAME:EDT
DTSTART:20280312T070000
END:DAYLIGHT
BEGIN:STANDARD
TZOFFSETFROM:-0400
TZOFFSETTO:-0500
TZNAME:EST
DTSTART:20281105T060000
END:STANDARD
BEGIN:DAYLIGHT
TZOFFSETFROM:-0500
TZOFFSETTO:-0400
TZNAME:EDT
DTSTART:20290311T070000
END:DAYLIGHT
BEGIN:STANDARD
TZOFFSETFROM:-0400
TZOFFSETTO:-0500
TZNAME:EST
DTSTART:20291104T060000
END:STANDARD
BEGIN:DAYLIGHT
TZOFFSETFROM:-0500
TZOFFSETTO:-0400
TZNAME:EDT
DTSTART:20300310T070000
END:DAYLIGHT
BEGIN:STANDARD
TZOFFSETFROM:-0400
TZOFFSETTO:-0500
TZNAME:EST
DTSTART:20301103T060000
END:STANDARD
BEGIN:DAYLIGHT
TZOFFSETFROM:-0500
TZOFFSETTO:-0400
TZNAME:EDT
DTSTART:20310309T070000
END:DAYLIGHT
BEGIN:STANDARD
TZOFFSETFROM:-0400
TZOFFSETTO:-0500
TZNAME:EST
DTSTART:20311102T060000
END:STANDARD
END:VTIMEZONE
BEGIN:VEVENT
DTSTART;TZID=America/New_York:20290703T113000
DTEND;TZID=America/New_York:20290703T123000
DTSTAMP:20260424T081313
CREATED:20250715T170039Z
LAST-MODIFIED:20250822T162512Z
UID:10004218-1877772600-1877776200@lrvna.org
SUMMARY:Blood Pressure Clinic - Ossipee
DESCRIPTION:
URL:https://lrvna.org/event/blood-pressure-clinic-2/2029-07-03/
LOCATION:Ossipee Concerned Citizens Inc\, 3 Dore St\, Center Ossipee\, NH\, 03814\, United States
CATEGORIES:Clinics
END:VEVENT
BEGIN:VEVENT
DTSTART;TZID=America/New_York:20290718T110000
DTEND;TZID=America/New_York:20290718T120000
DTSTAMP:20260424T081313
CREATED:20260115T202800Z
LAST-MODIFIED:20260206T174145Z
UID:10004548-1879066800-1879070400@lrvna.org
SUMMARY:Blood Pressure Clinic - Holderness
DESCRIPTION:
URL:https://lrvna.org/event/blood-pressure-clinic-holderness/2029-07-18/
LOCATION:Holderness Free Library\, 866 US-3\, Holderness\, NH\, 03245\, United States
CATEGORIES:Clinics
END:VEVENT
BEGIN:VEVENT
DTSTART;TZID=America/New_York:20290807T113000
DTEND;TZID=America/New_York:20290807T123000
DTSTAMP:20260424T081313
CREATED:20250715T170039Z
LAST-MODIFIED:20250822T162512Z
UID:10004219-1880796600-1880800200@lrvna.org
SUMMARY:Blood Pressure Clinic - Ossipee
DESCRIPTION:
URL:https://lrvna.org/event/blood-pressure-clinic-2/2029-08-07/
LOCATION:Ossipee Concerned Citizens Inc\, 3 Dore St\, Center Ossipee\, NH\, 03814\, United States
CATEGORIES:Clinics
END:VEVENT
BEGIN:VEVENT
DTSTART;TZID=America/New_York:20290815T110000
DTEND;TZID=America/New_York:20290815T120000
DTSTAMP:20260424T081313
CREATED:20260115T202800Z
LAST-MODIFIED:20260206T174145Z
UID:10004549-1881486000-1881489600@lrvna.org
SUMMARY:Blood Pressure Clinic - Holderness
DESCRIPTION:
URL:https://lrvna.org/event/blood-pressure-clinic-holderness/2029-08-15/
LOCATION:Holderness Free Library\, 866 US-3\, Holderness\, NH\, 03245\, United States
CATEGORIES:Clinics
END:VEVENT
BEGIN:VEVENT
DTSTART;TZID=America/New_York:20290904T113000
DTEND;TZID=America/New_York:20290904T123000
DTSTAMP:20260424T081313
CREATED:20250715T170039Z
LAST-MODIFIED:20250822T162512Z
UID:10004220-1883215800-1883219400@lrvna.org
SUMMARY:Blood Pressure Clinic - Ossipee
DESCRIPTION:
URL:https://lrvna.org/event/blood-pressure-clinic-2/2029-09-04/
LOCATION:Ossipee Concerned Citizens Inc\, 3 Dore St\, Center Ossipee\, NH\, 03814\, United States
CATEGORIES:Clinics
END:VEVENT
BEGIN:VEVENT
DTSTART;TZID=America/New_York:20290919T110000
DTEND;TZID=America/New_York:20290919T120000
DTSTAMP:20260424T081313
CREATED:20260115T202800Z
LAST-MODIFIED:20260206T174145Z
UID:10004550-1884510000-1884513600@lrvna.org
SUMMARY:Blood Pressure Clinic - Holderness
DESCRIPTION:
URL:https://lrvna.org/event/blood-pressure-clinic-holderness/2029-09-19/
LOCATION:Holderness Free Library\, 866 US-3\, Holderness\, NH\, 03245\, United States
CATEGORIES:Clinics
END:VEVENT
BEGIN:VEVENT
DTSTART;TZID=America/New_York:20291002T113000
DTEND;TZID=America/New_York:20291002T123000
DTSTAMP:20260424T081313
CREATED:20250715T170039Z
LAST-MODIFIED:20250822T162512Z
UID:10004221-1885635000-1885638600@lrvna.org
SUMMARY:Blood Pressure Clinic - Ossipee
DESCRIPTION:
URL:https://lrvna.org/event/blood-pressure-clinic-2/2029-10-02/
LOCATION:Ossipee Concerned Citizens Inc\, 3 Dore St\, Center Ossipee\, NH\, 03814\, United States
CATEGORIES:Clinics
END:VEVENT
BEGIN:VEVENT
DTSTART;TZID=America/New_York:20291017T110000
DTEND;TZID=America/New_York:20291017T120000
DTSTAMP:20260424T081313
CREATED:20260115T202800Z
LAST-MODIFIED:20260206T174145Z
UID:10004551-1886929200-1886932800@lrvna.org
SUMMARY:Blood Pressure Clinic - Holderness
DESCRIPTION:
URL:https://lrvna.org/event/blood-pressure-clinic-holderness/2029-10-17/
LOCATION:Holderness Free Library\, 866 US-3\, Holderness\, NH\, 03245\, United States
CATEGORIES:Clinics
END:VEVENT
BEGIN:VEVENT
DTSTART;TZID=America/New_York:20291106T113000
DTEND;TZID=America/New_York:20291106T123000
DTSTAMP:20260424T081313
CREATED:20250715T170039Z
LAST-MODIFIED:20250822T162512Z
UID:10004222-1888659000-1888662600@lrvna.org
SUMMARY:Blood Pressure Clinic - Ossipee
DESCRIPTION:
URL:https://lrvna.org/event/blood-pressure-clinic-2/2029-11-06/
LOCATION:Ossipee Concerned Citizens Inc\, 3 Dore St\, Center Ossipee\, NH\, 03814\, United States
CATEGORIES:Clinics
END:VEVENT
BEGIN:VEVENT
DTSTART;TZID=America/New_York:20291121T110000
DTEND;TZID=America/New_York:20291121T120000
DTSTAMP:20260424T081313
CREATED:20260115T202800Z
LAST-MODIFIED:20260206T174145Z
UID:10004552-1889953200-1889956800@lrvna.org
SUMMARY:Blood Pressure Clinic - Holderness
DESCRIPTION:
URL:https://lrvna.org/event/blood-pressure-clinic-holderness/2029-11-21/
LOCATION:Holderness Free Library\, 866 US-3\, Holderness\, NH\, 03245\, United States
CATEGORIES:Clinics
END:VEVENT
BEGIN:VEVENT
DTSTART;TZID=America/New_York:20291204T113000
DTEND;TZID=America/New_York:20291204T123000
DTSTAMP:20260424T081313
CREATED:20250715T170039Z
LAST-MODIFIED:20250822T162512Z
UID:10004223-1891078200-1891081800@lrvna.org
SUMMARY:Blood Pressure Clinic - Ossipee
DESCRIPTION:
URL:https://lrvna.org/event/blood-pressure-clinic-2/2029-12-04/
LOCATION:Ossipee Concerned Citizens Inc\, 3 Dore St\, Center Ossipee\, NH\, 03814\, United States
CATEGORIES:Clinics
END:VEVENT
BEGIN:VEVENT
DTSTART;TZID=America/New_York:20291219T110000
DTEND;TZID=America/New_York:20291219T120000
DTSTAMP:20260424T081313
CREATED:20260115T202800Z
LAST-MODIFIED:20260206T174145Z
UID:10004553-1892372400-1892376000@lrvna.org
SUMMARY:Blood Pressure Clinic - Holderness
DESCRIPTION:
URL:https://lrvna.org/event/blood-pressure-clinic-holderness/2029-12-19/
LOCATION:Holderness Free Library\, 866 US-3\, Holderness\, NH\, 03245\, United States
CATEGORIES:Clinics
END:VEVENT
BEGIN:VEVENT
DTSTART;TZID=America/New_York:20300101T113000
DTEND;TZID=America/New_York:20300101T123000
DTSTAMP:20260424T081313
CREATED:20250715T170039Z
LAST-MODIFIED:20250822T162512Z
UID:10004224-1893497400-1893501000@lrvna.org
SUMMARY:Blood Pressure Clinic - Ossipee
DESCRIPTION:
URL:https://lrvna.org/event/blood-pressure-clinic-2/2030-01-01/
LOCATION:Ossipee Concerned Citizens Inc\, 3 Dore St\, Center Ossipee\, NH\, 03814\, United States
CATEGORIES:Clinics
END:VEVENT
BEGIN:VEVENT
DTSTART;TZID=America/New_York:20300116T110000
DTEND;TZID=America/New_York:20300116T120000
DTSTAMP:20260424T081313
CREATED:20260115T202800Z
LAST-MODIFIED:20260206T174145Z
UID:10004554-1894791600-1894795200@lrvna.org
SUMMARY:Blood Pressure Clinic - Holderness
DESCRIPTION:
URL:https://lrvna.org/event/blood-pressure-clinic-holderness/2030-01-16/
LOCATION:Holderness Free Library\, 866 US-3\, Holderness\, NH\, 03245\, United States
CATEGORIES:Clinics
END:VEVENT
BEGIN:VEVENT
DTSTART;TZID=America/New_York:20300205T113000
DTEND;TZID=America/New_York:20300205T123000
DTSTAMP:20260424T081313
CREATED:20250715T170039Z
LAST-MODIFIED:20250822T162512Z
UID:10004225-1896521400-1896525000@lrvna.org
SUMMARY:Blood Pressure Clinic - Ossipee
DESCRIPTION:
URL:https://lrvna.org/event/blood-pressure-clinic-2/2030-02-05/
LOCATION:Ossipee Concerned Citizens Inc\, 3 Dore St\, Center Ossipee\, NH\, 03814\, United States
CATEGORIES:Clinics
END:VEVENT
BEGIN:VEVENT
DTSTART;TZID=America/New_York:20300220T110000
DTEND;TZID=America/New_York:20300220T120000
DTSTAMP:20260424T081313
CREATED:20260115T202800Z
LAST-MODIFIED:20260206T174145Z
UID:10004555-1897815600-1897819200@lrvna.org
SUMMARY:Blood Pressure Clinic - Holderness
DESCRIPTION:
URL:https://lrvna.org/event/blood-pressure-clinic-holderness/2030-02-20/
LOCATION:Holderness Free Library\, 866 US-3\, Holderness\, NH\, 03245\, United States
CATEGORIES:Clinics
END:VEVENT
BEGIN:VEVENT
DTSTART;TZID=America/New_York:20300305T113000
DTEND;TZID=America/New_York:20300305T123000
DTSTAMP:20260424T081313
CREATED:20250715T170039Z
LAST-MODIFIED:20250822T162512Z
UID:10004226-1898940600-1898944200@lrvna.org
SUMMARY:Blood Pressure Clinic - Ossipee
DESCRIPTION:
URL:https://lrvna.org/event/blood-pressure-clinic-2/2030-03-05/
LOCATION:Ossipee Concerned Citizens Inc\, 3 Dore St\, Center Ossipee\, NH\, 03814\, United States
CATEGORIES:Clinics
END:VEVENT
BEGIN:VEVENT
DTSTART;TZID=America/New_York:20300320T110000
DTEND;TZID=America/New_York:20300320T120000
DTSTAMP:20260424T081313
CREATED:20260115T202800Z
LAST-MODIFIED:20260206T174145Z
UID:10004556-1900234800-1900238400@lrvna.org
SUMMARY:Blood Pressure Clinic - Holderness
DESCRIPTION:
URL:https://lrvna.org/event/blood-pressure-clinic-holderness/2030-03-20/
LOCATION:Holderness Free Library\, 866 US-3\, Holderness\, NH\, 03245\, United States
CATEGORIES:Clinics
END:VEVENT
BEGIN:VEVENT
DTSTART;TZID=America/New_York:20300402T113000
DTEND;TZID=America/New_York:20300402T123000
DTSTAMP:20260424T081313
CREATED:20250715T170039Z
LAST-MODIFIED:20250822T162512Z
UID:10004227-1901359800-1901363400@lrvna.org
SUMMARY:Blood Pressure Clinic - Ossipee
DESCRIPTION:
URL:https://lrvna.org/event/blood-pressure-clinic-2/2030-04-02/
LOCATION:Ossipee Concerned Citizens Inc\, 3 Dore St\, Center Ossipee\, NH\, 03814\, United States
CATEGORIES:Clinics
END:VEVENT
BEGIN:VEVENT
DTSTART;TZID=America/New_York:20300417T110000
DTEND;TZID=America/New_York:20300417T120000
DTSTAMP:20260424T081313
CREATED:20260115T202800Z
LAST-MODIFIED:20260206T174145Z
UID:10004557-1902654000-1902657600@lrvna.org
SUMMARY:Blood Pressure Clinic - Holderness
DESCRIPTION:
URL:https://lrvna.org/event/blood-pressure-clinic-holderness/2030-04-17/
LOCATION:Holderness Free Library\, 866 US-3\, Holderness\, NH\, 03245\, United States
CATEGORIES:Clinics
END:VEVENT
BEGIN:VEVENT
DTSTART;TZID=America/New_York:20300507T113000
DTEND;TZID=America/New_York:20300507T123000
DTSTAMP:20260424T081313
CREATED:20250715T170039Z
LAST-MODIFIED:20250822T162512Z
UID:10004228-1904383800-1904387400@lrvna.org
SUMMARY:Blood Pressure Clinic - Ossipee
DESCRIPTION:
URL:https://lrvna.org/event/blood-pressure-clinic-2/2030-05-07/
LOCATION:Ossipee Concerned Citizens Inc\, 3 Dore St\, Center Ossipee\, NH\, 03814\, United States
CATEGORIES:Clinics
END:VEVENT
BEGIN:VEVENT
DTSTART;TZID=America/New_York:20300515T110000
DTEND;TZID=America/New_York:20300515T120000
DTSTAMP:20260424T081313
CREATED:20260115T202800Z
LAST-MODIFIED:20260206T174145Z
UID:10004558-1905073200-1905076800@lrvna.org
SUMMARY:Blood Pressure Clinic - Holderness
DESCRIPTION:
URL:https://lrvna.org/event/blood-pressure-clinic-holderness/2030-05-15/
LOCATION:Holderness Free Library\, 866 US-3\, Holderness\, NH\, 03245\, United States
CATEGORIES:Clinics
END:VEVENT
BEGIN:VEVENT
DTSTART;TZID=America/New_York:20300604T113000
DTEND;TZID=America/New_York:20300604T123000
DTSTAMP:20260424T081313
CREATED:20250715T170039Z
LAST-MODIFIED:20250822T162512Z
UID:10004229-1906803000-1906806600@lrvna.org
SUMMARY:Blood Pressure Clinic - Ossipee
DESCRIPTION:
URL:https://lrvna.org/event/blood-pressure-clinic-2/2030-06-04/
LOCATION:Ossipee Concerned Citizens Inc\, 3 Dore St\, Center Ossipee\, NH\, 03814\, United States
CATEGORIES:Clinics
END:VEVENT
BEGIN:VEVENT
DTSTART;TZID=America/New_York:20300619T110000
DTEND;TZID=America/New_York:20300619T120000
DTSTAMP:20260424T081313
CREATED:20260115T202800Z
LAST-MODIFIED:20260206T174145Z
UID:10004559-1908097200-1908100800@lrvna.org
SUMMARY:Blood Pressure Clinic - Holderness
DESCRIPTION:
URL:https://lrvna.org/event/blood-pressure-clinic-holderness/2030-06-19/
LOCATION:Holderness Free Library\, 866 US-3\, Holderness\, NH\, 03245\, United States
CATEGORIES:Clinics
END:VEVENT
BEGIN:VEVENT
DTSTART;TZID=America/New_York:20300702T113000
DTEND;TZID=America/New_York:20300702T123000
DTSTAMP:20260424T081313
CREATED:20250715T170039Z
LAST-MODIFIED:20250822T162512Z
UID:10004230-1909222200-1909225800@lrvna.org
SUMMARY:Blood Pressure Clinic - Ossipee
DESCRIPTION:
URL:https://lrvna.org/event/blood-pressure-clinic-2/2030-07-02/
LOCATION:Ossipee Concerned Citizens Inc\, 3 Dore St\, Center Ossipee\, NH\, 03814\, United States
CATEGORIES:Clinics
END:VEVENT
BEGIN:VEVENT
DTSTART;TZID=America/New_York:20300717T110000
DTEND;TZID=America/New_York:20300717T120000
DTSTAMP:20260424T081313
CREATED:20260115T202800Z
LAST-MODIFIED:20260206T174145Z
UID:10004560-1910516400-1910520000@lrvna.org
SUMMARY:Blood Pressure Clinic - Holderness
DESCRIPTION:
URL:https://lrvna.org/event/blood-pressure-clinic-holderness/2030-07-17/
LOCATION:Holderness Free Library\, 866 US-3\, Holderness\, NH\, 03245\, United States
CATEGORIES:Clinics
END:VEVENT
BEGIN:VEVENT
DTSTART;TZID=America/New_York:20300806T113000
DTEND;TZID=America/New_York:20300806T123000
DTSTAMP:20260424T081313
CREATED:20250715T170039Z
LAST-MODIFIED:20250822T162512Z
UID:10004231-1912246200-1912249800@lrvna.org
SUMMARY:Blood Pressure Clinic - Ossipee
DESCRIPTION:
URL:https://lrvna.org/event/blood-pressure-clinic-2/2030-08-06/
LOCATION:Ossipee Concerned Citizens Inc\, 3 Dore St\, Center Ossipee\, NH\, 03814\, United States
CATEGORIES:Clinics
END:VEVENT
BEGIN:VEVENT
DTSTART;TZID=America/New_York:20300821T110000
DTEND;TZID=America/New_York:20300821T120000
DTSTAMP:20260424T081313
CREATED:20260115T202800Z
LAST-MODIFIED:20260206T174145Z
UID:10004561-1913540400-1913544000@lrvna.org
SUMMARY:Blood Pressure Clinic - Holderness
DESCRIPTION:
URL:https://lrvna.org/event/blood-pressure-clinic-holderness/2030-08-21/
LOCATION:Holderness Free Library\, 866 US-3\, Holderness\, NH\, 03245\, United States
CATEGORIES:Clinics
END:VEVENT
BEGIN:VEVENT
DTSTART;TZID=America/New_York:20300918T110000
DTEND;TZID=America/New_York:20300918T120000
DTSTAMP:20260424T081313
CREATED:20260115T202800Z
LAST-MODIFIED:20260206T174145Z
UID:10004562-1915959600-1915963200@lrvna.org
SUMMARY:Blood Pressure Clinic - Holderness
DESCRIPTION:
URL:https://lrvna.org/event/blood-pressure-clinic-holderness/2030-09-18/
LOCATION:Holderness Free Library\, 866 US-3\, Holderness\, NH\, 03245\, United States
CATEGORIES:Clinics
END:VEVENT
BEGIN:VEVENT
DTSTART;TZID=America/New_York:20301016T110000
DTEND;TZID=America/New_York:20301016T120000
DTSTAMP:20260424T081313
CREATED:20260115T202800Z
LAST-MODIFIED:20260206T174145Z
UID:10004563-1918378800-1918382400@lrvna.org
SUMMARY:Blood Pressure Clinic - Holderness
DESCRIPTION:
URL:https://lrvna.org/event/blood-pressure-clinic-holderness/2030-10-16/
LOCATION:Holderness Free Library\, 866 US-3\, Holderness\, NH\, 03245\, United States
CATEGORIES:Clinics
END:VEVENT
END:VCALENDAR